BEGIN:VCALENDAR
VERSION:2.0
PRODID:-//Martial Arts America | Rochester, NY - ECPv6.15.18//NONSGML v1.0//EN
CALSCALE:GREGORIAN
METHOD:PUBLISH
X-WR-CALNAME:Martial Arts America | Rochester, NY
X-ORIGINAL-URL:https://rochesterkarate.com
X-WR-CALDESC:Events for Martial Arts America | Rochester, NY
REFRESH-INTERVAL;VALUE=DURATION:PT1H
X-Robots-Tag:noindex
X-PUBLISHED-TTL:PT1H
BEGIN:VTIMEZONE
TZID:UTC
BEGIN:STANDARD
TZOFFSETFROM:+0000
TZOFFSETTO:+0000
TZNAME:UTC
DTSTART:20140101T000000
END:STANDARD
END:VTIMEZONE
BEGIN:VEVENT
DTSTART;TZID=UTC:20160207T080000
DTEND;TZID=UTC:20160207T170000
DTSTAMP:20260420T081048
CREATED:20160202T205931Z
LAST-MODIFIED:20160706T162255Z
UID:1327-1454832000-1454864400@rochesterkarate.com
SUMMARY:Sparring Week
DESCRIPTION:
URL:https://rochesterkarate.com/event/sparring-week-5/
CATEGORIES:Special Events
END:VEVENT
BEGIN:VEVENT
DTSTART;TZID=UTC:20160125T080000
DTEND;TZID=UTC:20160125T170000
DTSTAMP:20260420T081048
CREATED:20151202T205231Z
LAST-MODIFIED:20160706T162255Z
UID:1253-1453708800-1453741200@rochesterkarate.com
SUMMARY:Sparring Week
DESCRIPTION:
URL:https://rochesterkarate.com/event/sparring-week-4/
LOCATION:All 3 MAA locations
CATEGORIES:Special Events
END:VEVENT
BEGIN:VEVENT
DTSTART;TZID=UTC:20160123T090000
DTEND;TZID=UTC:20160123T124500
DTSTAMP:20260420T081048
CREATED:20151202T204038Z
LAST-MODIFIED:20160706T162255Z
UID:1243-1453539600-1453553100@rochesterkarate.com
SUMMARY:Bring-A-Friend Day - all locations
DESCRIPTION:Don’t you just love to hang out with your friends and do something fun together?  You can do that at karate too!  On Saturday\, January 23 2016\, we invite you to bring your friends with you to a special class of karate fun and games.  Pick up a permission form at the front desk and we hope to see you there!
URL:https://rochesterkarate.com/event/bring-a-friend-day-all-locations/
LOCATION:All 3 MAA locations
CATEGORIES:Special Events
END:VEVENT
BEGIN:VEVENT
DTSTART;TZID=UTC:20160118T080000
DTEND;TZID=UTC:20160118T170000
DTSTAMP:20260420T081048
CREATED:20151202T205132Z
LAST-MODIFIED:20160706T162255Z
UID:1252-1453104000-1453136400@rochesterkarate.com
SUMMARY:Weapons Week
DESCRIPTION:
URL:https://rochesterkarate.com/event/weapons-week-4/
LOCATION:All 3 MAA locations
CATEGORIES:Special Events
END:VEVENT
BEGIN:VEVENT
DTSTART;TZID=UTC:20160116T010000
DTEND;TZID=UTC:20160116T160000
DTSTAMP:20260420T081048
CREATED:20151221T043509Z
LAST-MODIFIED:20160706T162255Z
UID:1281-1452906000-1452960000@rochesterkarate.com
SUMMARY:In School Invitational Karate Tournament
DESCRIPTION:  \nThis in-school karate tournament\, held at the Brighton MAA dojo\, is for students of all ages and belt levels from all 3 MAA locations (as well as a few invited guests). \n \nWhether this is your first tournament and you want to “learn the ropes” about karate competition or your an experienced karate athlete and you want to sharpen your skills for the upcoming tournament season\, this event is for you.\n \nAll compeitors will placed in divisions according to their age group and belt levels categories. There will be competition in kata and sparring (except for Tigers\, White Belts and new Yellow Belts – they will do kata and board breaking).\n \nThe competition will be judged by our MAA black belt instructors.  Students will get tips and coaching about the procedures and rules. \n \nKarate tournaments are a fantastic way to experience the benefits of focused competition\, sportsmanship\, how to handle winning and losing\, and how to develop camaraderie and friendship with fellow competitors.\n \nAll competitors will receive a ribbon for competing. The tournament fee is only $10. \n \nDivisions and start times:\nTigers and White Belts – 1:00 pm\nYouth Yellow\, Orange and Greeen Belts – 1:30 pm\nYouth Blue through Brown belts – 2:30 pm\nJunior and Teen Black Belts – 3:30 pm\nAdults – all belt levels – 4:00 pm\n \nRegister at your dojo’s front counter by thursday Jan. 10th.
URL:https://rochesterkarate.com/event/in-school-invitational-karate-tournament/
LOCATION:Martial Arts America – Brighton\, 3450 Winton Place Plaza\, Rochester\, NY\, 14623\, United States
CATEGORIES:Special Events
END:VEVENT
BEGIN:VEVENT
DTSTART;TZID=UTC:20160115T060000
DTEND;TZID=UTC:20160115T200000
DTSTAMP:20260420T081048
CREATED:20151202T204419Z
LAST-MODIFIED:20160706T162255Z
UID:1245-1452837600-1452888000@rochesterkarate.com
SUMMARY:Kids Activity Night - all locations
DESCRIPTION:Can you keep a secret?  Well we can and we’re not telling you the theme of this awesome activity night…not yet anyway.  Stay tuned for details for this fun\, fun\, fun event!
URL:https://rochesterkarate.com/event/kids-activity-night-all-locations/
LOCATION:All 3 MAA locations
CATEGORIES:Special Events
END:VEVENT
BEGIN:VEVENT
DTSTART;TZID=UTC:20160111T080000
DTEND;TZID=UTC:20160111T170000
DTSTAMP:20260420T081048
CREATED:20151202T205049Z
LAST-MODIFIED:20160706T162255Z
UID:1251-1452499200-1452531600@rochesterkarate.com
SUMMARY:Sparring Week
DESCRIPTION:
URL:https://rochesterkarate.com/event/sparring-week-3/
LOCATION:All 3 MAA locations
CATEGORIES:Special Events
END:VEVENT
BEGIN:VEVENT
DTSTART;TZID=UTC:20160104T080000
DTEND;TZID=UTC:20160104T170000
DTSTAMP:20260420T081048
CREATED:20151202T204932Z
LAST-MODIFIED:20160706T162255Z
UID:1250-1451894400-1451926800@rochesterkarate.com
SUMMARY:Weapons Week
DESCRIPTION:
URL:https://rochesterkarate.com/event/weapons-week-3/
LOCATION:All 3 MAA locations
CATEGORIES:Special Events
END:VEVENT
BEGIN:VEVENT
DTSTART;TZID=UTC:20160104T080000
DTEND;TZID=UTC:20160104T170000
DTSTAMP:20260420T081048
CREATED:20151202T204541Z
LAST-MODIFIED:20160706T162255Z
UID:1246-1451894400-1451926800@rochesterkarate.com
SUMMARY:Classes Resume
DESCRIPTION:
URL:https://rochesterkarate.com/event/classes-resume/
LOCATION:All 3 MAA locations
CATEGORIES:Special Events
END:VEVENT
BEGIN:VEVENT
DTSTART;TZID=UTC:20160102T090000
DTEND;TZID=UTC:20160102T120000
DTSTAMP:20260420T081048
CREATED:20151224T084809Z
LAST-MODIFIED:20160706T162255Z
UID:1290-1451725200-1451736000@rochesterkarate.com
SUMMARY:Wing chun Kung Fu - Free Workshop
DESCRIPTION:Popularized recently by the Ip Man movies\, Wing Chun is a highly effective Chinese martial art that incorporates dynamice blocking\, trapping and striking actions for an efficiend self defense system.  Whether you are an experienced martial artist\, or a complete beginner\, you’ll learn a lot about this exciting and practical martial art at this free workshop. \nTaught by Sifu Jim Brault\, a long time martial artist and certified instructor under Internationally renowned Master Francis Fong\, this seminar will cover the fundamentals of the Wing Chun system\, with partner drills and combinations that are readily learned (but take many years to master). \nThe workshop runs from 10 am – 12 noon and is being held at Martial Arts America\, 1270 Creek St.\, Webster (near Bay Town plaza).  There is no charge for this seminar – it’s being offered to expose more people to the Wing Chun system and to assess interest in an ongoing class for the future. \nThis session is for teens 13+ and adults\, men and women.  You can wear sweats or a martial arts uniform\, training shoes (clean and rubber soled) or barefeet. \nYou can register here for the free workshop Wing chun workshop \nCome and join us for this fun and exciting class.  See you there!
URL:https://rochesterkarate.com/event/wing-chun-kung-fu-free-workshop/
LOCATION:Martial Arts America Webster\, 1270 Creek st\, Webster\, NY\, 14580\, United States
CATEGORIES:Special Events
END:VEVENT
BEGIN:VEVENT
DTSTART;TZID=UTC:20151231T080000
DTEND;TZID=UTC:20160103T170000
DTSTAMP:20260420T081048
CREATED:20151202T203947Z
LAST-MODIFIED:20160706T162255Z
UID:1244-1451548800-1451840400@rochesterkarate.com
SUMMARY:Closed for Holidays
DESCRIPTION:
URL:https://rochesterkarate.com/event/closed-for-holidays-2/
CATEGORIES:Special Events
END:VEVENT
BEGIN:VEVENT
DTSTART;TZID=UTC:20151230T180000
DTEND;TZID=UTC:20151230T191500
DTSTAMP:20260420T081048
CREATED:20151210T010251Z
LAST-MODIFIED:20160706T162255Z
UID:1279-1451498400-1451502900@rochesterkarate.com
SUMMARY:Modified Holiday Schedule - Brighton & Penfield dojos
DESCRIPTION:We will be running a modified schedule for classes today \nTigers (4 & 55 year olds): 6:00 pm – 6:30 pm \nTeen/Adults (all belt levels): 6:30 pm – 7:15 pm
URL:https://rochesterkarate.com/event/modified-holiday-schedule-brighton-penfield-dojos-2/
CATEGORIES:Special Events
END:VEVENT
BEGIN:VEVENT
DTSTART;TZID=UTC:20151229T180000
DTEND;TZID=UTC:20151229T193000
DTSTAMP:20260420T081048
CREATED:20151210T005934Z
LAST-MODIFIED:20160706T162255Z
UID:1276-1451412000-1451417400@rochesterkarate.com
SUMMARY:Modified Holiday Schedule - Brighton & Penfield dojos
DESCRIPTION:We are running a modified schedule today at the Brighton and Penfield dojos \nJuniors 6 – 12 yrs old\, all belt levels: 6:00 pm – 6:45 pm \nTeen/Adults\, all belt levels: 6:45 pm – 7:30 pm \nThe Webster dojo will run all of its regular classes \n 
URL:https://rochesterkarate.com/event/modified-holiday-schedule-brighton-penfield-dojos/
LOCATION:Brighton and Penfield dojos
CATEGORIES:Special Events
END:VEVENT
BEGIN:VEVENT
DTSTART;TZID=UTC:20151228T180000
DTEND;TZID=UTC:20151228T191500
DTSTAMP:20260420T081048
CREATED:20151202T202036Z
LAST-MODIFIED:20160706T162255Z
UID:1239-1451325600-1451330100@rochesterkarate.com
SUMMARY:Modified Holiday Schedule - Brighton & Penfield dojos
DESCRIPTION:During the upcoming holidays\, we will be running a modified schedule as follows: \nTigers (4 & 5 years old): 6:00 pm – 6:30 pm \nJunior 6 -12 years old – all belt levels : 6:30 pm – 7:15 pm \n  \n 
URL:https://rochesterkarate.com/event/modified-holiday-schedule-all-locations/
LOCATION:All 3 MAA locations
CATEGORIES:Special Events
END:VEVENT
BEGIN:VEVENT
DTSTART;TZID=UTC:20151224T080000
DTEND;TZID=UTC:20151226T170000
DTSTAMP:20260420T081048
CREATED:20151105T203119Z
LAST-MODIFIED:20160706T162310Z
UID:1216-1450944000-1451149200@rochesterkarate.com
SUMMARY:Closed for Holidays
DESCRIPTION:At this special time of the year\, all 3 location will be closed December 24\, – 26 and December 31st – January 2. \nWe hope that you and your family will enjoy this special time!  Happy Holiday from all of us at Martial Arts America!
URL:https://rochesterkarate.com/event/closed-for-holidays/
LOCATION:All 3 MAA locations
CATEGORIES:Special Events
END:VEVENT
BEGIN:VEVENT
DTSTART;TZID=UTC:20151221T080000
DTEND;TZID=UTC:20151221T170000
DTSTAMP:20260420T081048
CREATED:20151202T204835Z
LAST-MODIFIED:20160706T162310Z
UID:1249-1450684800-1450717200@rochesterkarate.com
SUMMARY:Weapons Week
DESCRIPTION:
URL:https://rochesterkarate.com/event/weapons-week-2/
LOCATION:All 3 MAA locations
CATEGORIES:Special Events
END:VEVENT
BEGIN:VEVENT
DTSTART;TZID=UTC:20151219T180000
DTEND;TZID=UTC:20151219T210000
DTSTAMP:20260420T081048
CREATED:20151202T200929Z
LAST-MODIFIED:20160706T162310Z
UID:1238-1450548000-1450558800@rochesterkarate.com
SUMMARY:Star Wars Activity Night - Brighton location
DESCRIPTION:This is such a popular event\, that we’re giving you another opportunity to join the rebel alliance!   Let the force be with you and & from 6-9 pm\, you get to play all kinds of jedi games with your friends and Sensei’s!
URL:https://rochesterkarate.com/event/star-wars-activity-night-brighton-location/
LOCATION:Martial Arts America – Brighton\, 3450 Winton Place Plaza\, Rochester\, NY\, 14623\, United States
CATEGORIES:Special Events
END:VEVENT
BEGIN:VEVENT
DTSTART;TZID=UTC:20151214T080000
DTEND;TZID=UTC:20151214T170000
DTSTAMP:20260420T081048
CREATED:20151202T204724Z
LAST-MODIFIED:20160706T162310Z
UID:1248-1450080000-1450112400@rochesterkarate.com
SUMMARY:Sparring Week
DESCRIPTION:
URL:https://rochesterkarate.com/event/sparring-week-2/
LOCATION:All 3 MAA locations
CATEGORIES:Special Events
END:VEVENT
BEGIN:VEVENT
DTSTART;TZID=UTC:20151212T180000
DTEND;TZID=UTC:20151212T200000
DTSTAMP:20260420T081048
CREATED:20151105T202034Z
LAST-MODIFIED:20160706T162310Z
UID:1214-1449943200-1449950400@rochesterkarate.com
SUMMARY:Star Wars Kids Activity Night Webster & Penfield locations
DESCRIPTION:The new “Star Wars” movie is finally coming out and we are celebrating!  Darth Vader would tell you to “Join me here.  It is your destiny”.  You and your friends will have a great time at this activity night.  Dress up as your favorite character and your Sensei’s will too!  As Master Yoda would say\, “Sign up you must.  Wait\, do not”
URL:https://rochesterkarate.com/event/star-wars-kids-activity-night-2/
LOCATION:Martial Arts America Webster\, 1270 Creek st\, Webster\, NY\, 14580\, United States
CATEGORIES:Special Events
END:VEVENT
BEGIN:VEVENT
DTSTART;TZID=UTC:20151207T080000
DTEND;TZID=UTC:20151207T170000
DTSTAMP:20260420T081048
CREATED:20151202T204626Z
LAST-MODIFIED:20160706T162310Z
UID:1247-1449475200-1449507600@rochesterkarate.com
SUMMARY:Weapons Week
DESCRIPTION:
URL:https://rochesterkarate.com/event/weapons-week/
CATEGORIES:Special Events
END:VEVENT
BEGIN:VEVENT
DTSTART;TZID=UTC:20151201T080000
DTEND;TZID=UTC:20151201T170000
DTSTAMP:20260420T081048
CREATED:20151109T224228Z
LAST-MODIFIED:20160706T162310Z
UID:1219-1448956800-1448989200@rochesterkarate.com
SUMMARY:Sparring Week
DESCRIPTION:
URL:https://rochesterkarate.com/event/sparring-week/
LOCATION:All 3 MAA locations
CATEGORIES:Special Events
END:VEVENT
BEGIN:VEVENT
DTSTART;TZID=UTC:20151127T080000
DTEND;TZID=UTC:20151127T150000
DTSTAMP:20260420T081048
CREATED:20151105T200708Z
LAST-MODIFIED:20160706T162500Z
UID:1210-1448611200-1448636400@rochesterkarate.com
SUMMARY:Black Friday Kids Karate Camp
DESCRIPTION:You’ve had enough turkey and football so now it’s time to chill with your karate friends and Sensei’s at our annual Black Friday Camp!  It’s all fun and games from 8 am – 3 pm (or 1/2 day if you wish).  We’ll play your favorite karate games\, you’ll hand out with your friends and train…what could be better?  Signup at the front counter!
URL:https://rochesterkarate.com/event/black-friday-kids-karate-camp/
LOCATION:All 3 MAA locations
CATEGORIES:Special Events,Summer Camps
END:VEVENT
BEGIN:VEVENT
DTSTART;TZID=UTC:20151126T080000
DTEND;TZID=UTC:20151128T130000
DTSTAMP:20260420T081048
CREATED:20151105T201022Z
LAST-MODIFIED:20160706T162311Z
UID:1212-1448524800-1448715600@rochesterkarate.com
SUMMARY:Happy Thanksgiving
DESCRIPTION:In honor of Thanksgiving\, we will be closed for regular classes Thursday – Saturday\, November 26 – 28th).  Enjoy this special time with you family and friends.
URL:https://rochesterkarate.com/event/happy-thanksgiving/
LOCATION:All 3 MAA locations
CATEGORIES:Special Events
END:VEVENT
BEGIN:VEVENT
DTSTART;TZID=UTC:20151121T170000
DTEND;TZID=UTC:20151121T190000
DTSTAMP:20260420T081048
CREATED:20151102T232017Z
LAST-MODIFIED:20160706T162311Z
UID:1206-1448125200-1448132400@rochesterkarate.com
SUMMARY:Holiday Party and Gift Sale
DESCRIPTION:The Brighton and Penfield locations are hosting our Second Annual Holiday Party and Gift Sale on Saturday\, November 21st.  From 5:00 pm – 7:00 pm\, you’ll be able to enjoy some social time with other karate families and friends; sample from holiday dishes (please sign up at the dojo and bring a dish to pass).  While your kids are watching a holiday movie and having some snacks\, parents and adults will have time to browse through our displays and order holiday gifts all without the prying eyes of the little ones!
URL:https://rochesterkarate.com/event/holiday-party-and-gift-sale/
CATEGORIES:Special Events
END:VEVENT
BEGIN:VEVENT
DTSTART;TZID=UTC:20151114T180000
DTEND;TZID=UTC:20151114T200000
DTSTAMP:20260420T081048
CREATED:20151102T224057Z
LAST-MODIFIED:20160706T162311Z
UID:1204-1447524000-1447531200@rochesterkarate.com
SUMMARY:Kids Activity Night - All MAA locations
DESCRIPTION:We are so grateful to have you as a student and with our thanks\, this months activity night is absolutely FREE!  All 3 locations are running this special event from 6-8 pm and here’s what you can expect: \nBrighton Dojo will feature Pokemon Activities    \nAt the Penfield Dojo\, you’ll be playing Nuclear Dodgeball      \nThe Webster Dojo\, you’ll find all kinds of Nerf games    \nYou can sign up at the front counter of your dojo!  Hope to see you there!
URL:https://rochesterkarate.com/event/kids-activity-night-all-maa-locations/
LOCATION:All 3 MAA locations
CATEGORIES:Special Events
END:VEVENT
BEGIN:VEVENT
DTSTART;TZID=UTC:20151111T090000
DTEND;TZID=UTC:20151111T150000
DTSTAMP:20260420T081048
CREATED:20151102T223249Z
LAST-MODIFIED:20160706T162500Z
UID:1202-1447232400-1447254000@rochesterkarate.com
SUMMARY:Veterans Day Kids Karate Camp
DESCRIPTION:   What could be better than a day off from school?  Spending it at the dojo with your friends and Sensei’s. \nFrom 9-Noon you’ll work on exciting new ways to perform your katas\, skills & drills for sparring and so much more.  After lunch\, it’s games\, games \nand more games.  Stay for full day or 1/2 day … the fun never ends!
URL:https://rochesterkarate.com/event/veterans-day-kids-karate-camp/
LOCATION:All MAA locations
CATEGORIES:Special Events,Summer Camps
END:VEVENT
BEGIN:VEVENT
DTSTART;VALUE=DATE:20151107
DTEND;VALUE=DATE:20151108
DTSTAMP:20260420T081048
CREATED:20151029T195843Z
LAST-MODIFIED:20160706T162311Z
UID:1195-1446854400-1446940799@rochesterkarate.com
SUMMARY:Bring-A-Friend Day
DESCRIPTION:Martial Arts America is now giving you the opportunity to share your training with a friend. Bring a friend to your regular class and let him or her see how much fun we have in Karate!  We’ll be playing games and more in classes so you and your friends will have a blast!  
URL:https://rochesterkarate.com/event/bring-a-friend-day/
LOCATION:All 3 MAA locations
CATEGORIES:Special Events
END:VEVENT
BEGIN:VEVENT
DTSTART;TZID=UTC:20151031T120000
DTEND;TZID=UTC:20151031T160000
DTSTAMP:20260420T081048
CREATED:20151007T203043Z
LAST-MODIFIED:20160706T162311Z
UID:1185-1446292800-1446307200@rochesterkarate.com
SUMMARY:Master Alain Sailly Training Seminars for Kids\, Teens\, Adults and Black Belts
DESCRIPTION:International Master Alain Saiily from France is an 8th degree black belt in Goshindo.  Don’t miss this opportunity to see a world-class master instructor in action—You’ll learn a lot\, laugh a lot and be inspired by his amazing skill (50 years in martial arts). Master Sailly conveys the true spirit of the martial arts. \nClasses will be limited to the first 30 students so don’t wait to register! \n  \n  \nSaturday October 31st\, 2015 \n  \n12 noon—1 pm Youth Seminar $25 \n1 pm—2:30 pm Teen/Adult Seminar  $30 \n2:30 pm—4 pm Black Belts and Instructors     Skills\, drills and teaching methods   $30 \nPlease wear full gi (no t-shirts) \nRegister at any Martial Arts America branch or at the web site listed below. \n  \n 
URL:https://rochesterkarate.com/event/master-alain-sailly-training-seminars-for-kids-teens-adults-and-black-belts/
LOCATION:Martial Arts America – Brighton\, 3450 Winton Place Plaza\, Rochester\, NY\, 14623\, United States
CATEGORIES:Special Events
END:VEVENT
BEGIN:VEVENT
DTSTART;TZID=UTC:20151024T180000
DTEND;TZID=UTC:20151024T200000
DTSTAMP:20260420T081048
CREATED:20151007T201618Z
LAST-MODIFIED:20160706T162311Z
UID:1184-1445709600-1445716800@rochesterkarate.com
SUMMARY:Haunted House to Benefit Strong Children's Hospital at the Brighton dojo
DESCRIPTION:We’re changing the Winton dojo into a chamber of horrors – with monsters and vampires and zombies and more!  You’ll get to walk through 3 rooms of shock and surprise as you wander the haunted house. \nYoung kids can walk through with their parents (and we’ll even do a few walks with the lights on – for those who find the dark too frightening). \n$5 minimum donation per person – $10 for a family.  Wear a costume if you’d like. \nGet ready for a goulish\, good time!
URL:https://rochesterkarate.com/event/haunted-house-to-benefit-strong-childrens-hospital-at-the-brighton-dojo/
CATEGORIES:Special Events
END:VEVENT
BEGIN:VEVENT
DTSTART;TZID=UTC:20151023T190000
DTEND;TZID=UTC:20151023T210000
DTSTAMP:20260420T081048
CREATED:20151007T200919Z
LAST-MODIFIED:20160706T162311Z
UID:1182-1445626800-1445634000@rochesterkarate.com
SUMMARY:Halloween Costume Kids Activity Night - at all locations
DESCRIPTION:A spooky\, good time will be your treat at this special event – but watch out for tricks! \nOpen to kids ages 6 – 12 years old\, all belt levels.  Wear your costume and join in the fun Halloween-themed games and activities.  Register at the front counter of your dojo.
URL:https://rochesterkarate.com/event/halloween-costume-kids-activity-night-at-all-locations/
CATEGORIES:Special Events
END:VEVENT
END:VCALENDAR