BEGIN:VCALENDAR
VERSION:2.0
PRODID:-//Martial Arts America | Rochester, NY - ECPv6.15.18//NONSGML v1.0//EN
CALSCALE:GREGORIAN
METHOD:PUBLISH
X-WR-CALNAME:Martial Arts America | Rochester, NY
X-ORIGINAL-URL:https://rochesterkarate.com
X-WR-CALDESC:Events for Martial Arts America | Rochester, NY
REFRESH-INTERVAL;VALUE=DURATION:PT1H
X-Robots-Tag:noindex
X-PUBLISHED-TTL:PT1H
BEGIN:VTIMEZONE
TZID:America/New_York
BEGIN:DAYLIGHT
TZOFFSETFROM:-0500
TZOFFSETTO:-0400
TZNAME:EDT
DTSTART:20220313T070000
END:DAYLIGHT
BEGIN:STANDARD
TZOFFSETFROM:-0400
TZOFFSETTO:-0500
TZNAME:EST
DTSTART:20221106T060000
END:STANDARD
BEGIN:DAYLIGHT
TZOFFSETFROM:-0500
TZOFFSETTO:-0400
TZNAME:EDT
DTSTART:20230312T070000
END:DAYLIGHT
BEGIN:STANDARD
TZOFFSETFROM:-0400
TZOFFSETTO:-0500
TZNAME:EST
DTSTART:20231105T060000
END:STANDARD
BEGIN:DAYLIGHT
TZOFFSETFROM:-0500
TZOFFSETTO:-0400
TZNAME:EDT
DTSTART:20240310T070000
END:DAYLIGHT
BEGIN:STANDARD
TZOFFSETFROM:-0400
TZOFFSETTO:-0500
TZNAME:EST
DTSTART:20241103T060000
END:STANDARD
END:VTIMEZONE
BEGIN:VEVENT
DTSTART;TZID=America/New_York:20230205T090000
DTEND;TZID=America/New_York:20230205T150000
DTSTAMP:20260420T051541
CREATED:20230115T144943Z
LAST-MODIFIED:20230115T145039Z
UID:4046-1675587600-1675609200@rochesterkarate.com
SUMMARY:Karate Tournament at Gates-Chili High School
DESCRIPTION:This is an excellent opportunity for new and experienced karate competitors to challenge themselves in kata\, sparring and weapons kata (for advanced students).  There are divisions set up for all age groups and experience levels so even new competitors will enjoy the events.  Gold\, Silver and Bronze medals will be awarded as well as an special award for all participants. \nRegister by getting the forms here – https://www.samuraimartialarts.com/smawinterchampionships
URL:https://rochesterkarate.com/event/karate-tournament-at-gates-chili-high-school/
LOCATION:Gates Chili High School\, 1 spartan way\, Rochester\, NY\, 14624\, United States
END:VEVENT
END:VCALENDAR